BEGIN:VCALENDAR
VERSION:2.0
PRODID:-//eventon.com NONSGML v1.0//EN
CALSCALE:GREGORIAN
METHOD:PUBLISH
BEGIN:VEVENT
UID:69e8a2f534218
DTSTAMP:20260422T102909Z
DTSTART:20230224T143000Z
DTEND:20230224T153000Z
LOCATION:
SUMMARY:L'acquisto per investimento  - webinar gratuito
DESCRIPTION:Aspetti pratici per un'efficace consulenza all'acquirente. La p
 rofittabilità degli investimenti immobiliari sul piano soggettivo\,  i pro
  e i contro dell'acquisto\,  gestione e rivendita dell'immobile come privat
 o o come società. Webinar riservato ai Mediatori Immobiliari aderenti a Fi
 maa. 24 febbraio  alle ore 14\, 30 Relatore: Cristoforo Florio ( Consulent
 e fiscale Fimaa) Per[..]\nhttps://www.confcommerciocremona.it/events/lacqui
 sto-per-investimento-webinar-gratuito/
URL:https://www.confcommerciocremona.it/events/lacquisto-per-investimento-webinar-gratuito/
END:VEVENT
END:VCALENDAR