BEGIN:VCALENDAR
VERSION:2.0
PRODID:-//eventon.com NONSGML v1.0//EN
CALSCALE:GREGORIAN
METHOD:PUBLISH
BEGIN:VEVENT
UID:69e7591408ef9
DTSTAMP:20260421T110140Z
DTSTART:20211110T140000Z
DTEND:20211112T160000Z
LOCATION:
SUMMARY:OTTENERE SUCCESSO CON GOOGLE MY BUSINESS
DESCRIPTION:10 e 12  novembre dalle 14\, 00 alle 16\, 00- in modalità ONL
 INE &nbsp; Google Maps non è un semplice elenco telefonico\,  ma cosa c’
 entra Google Maps? Non è utilizzato per navigare verso un luogo\,  un rist
 orante\,  un negozio o un’azienda? Assolutamente corretto\,  ma c’è di
  più\,  le mappe di google nel[..]\nhttps://www.confcommerciocremona.it/ev
 ents/ottenere-successo-con-google-my-business/
URL:https://www.confcommerciocremona.it/events/ottenere-successo-con-google-my-business/
END:VEVENT
END:VCALENDAR