BEGIN:VCALENDAR
VERSION:2.0
PRODID:-//eventon.com NONSGML v1.0//EN
CALSCALE:GREGORIAN
METHOD:PUBLISH
BEGIN:VEVENT
UID:69e8d3daa28c7
DTSTAMP:20260422T135746Z
DTSTART:20260531T100000Z
DTEND:20261231T160000Z
LOCATION:
SUMMARY:Bando rinnova veicoli commerciali 2026/2027
DESCRIPTION:Bando rinnova veicoli commerciali 2026/2027 La Giunta regionale
  ha approvato\,  con delibera n. 5989 del 13 aprile 2026\,  gli incentivi e
  i criteri per il finanziamento del rinnovo dei veicoli inquinanti circolan
 ti in Lombardia con veicoli a basso impatto emissivo destinati al trasporto
  di merci e di persone\,  a fronte[..]\nhttps://www.confcommerciocremona.it
 /events/bando-rinnova-veicoli-commerciali-2026-2027/
URL:https://www.confcommerciocremona.it/events/bando-rinnova-veicoli-commerciali-2026-2027/
END:VEVENT
END:VCALENDAR