BEGIN:VCALENDAR
VERSION:2.0
PRODID:-//eventon.com NONSGML v1.0//EN
CALSCALE:GREGORIAN
METHOD:PUBLISH
BEGIN:VEVENT
UID:69e8d3827ca54
DTSTAMP:20260422T135618Z
DTSTART:20260630T140000Z
DTEND:20260930T160000Z
LOCATION:
SUMMARY:Bando "Imprese storiche verso il futuro 2026"
DESCRIPTION:Regione Lombardia e il Sistema camerale lombardo tramite Unionc
 amere Lombardia intendono supportare le attività storiche e di tradizione 
 iscritte nell’elenco regionale con un apposito bando "Imprese storiche ve
 rso il futuro 2026". Non potranno accedere al contributo le imprese che han
 no beneficiato della misura nel 2025. Chi può partecipare? Le imprese[..]\
 nhttps://www.confcommerciocremona.it/events/bando-imprese-storiche-verso-il
 -futuro-2026/
URL:https://www.confcommerciocremona.it/events/bando-imprese-storiche-verso-il-futuro-2026/
END:VEVENT
END:VCALENDAR