BEGIN:VCALENDAR
VERSION:2.0
PRODID:-//eventon.com NONSGML v1.0//EN
CALSCALE:GREGORIAN
METHOD:PUBLISH
BEGIN:VEVENT
UID:69e8d315547e3
DTSTAMP:20260422T135429Z
DTSTART:20260501T100000Z
DTEND:20261130T120000Z
LOCATION:
SUMMARY:PIANO PROMOZIONE 2026: 2\, 35 MILIONI DI EURO PER LE IMPRESE DI CREMONA
DESCRIPTION:OBIETTIVO La Camera di Commercio di Cremona\,  Mantova e Pavia 
 ha approvato un massiccio pacchetto di interventi per il 2026. Con uno stan
 ziamento complessivo di 2\, 35 milioni di euro\,  l'obiettivo è sostenere 
 la competitività delle imprese locali attraverso bandi tematici che copron
 o ogni esigenza aziendale: dall'innovazione tecnologica all'export\,  fino 
 alla[..]\nhttps://www.confcommerciocremona.it/events/contributi-fondo-perdu
 to-2026-cr-mn-pv/
URL:https://www.confcommerciocremona.it/events/contributi-fondo-perduto-2026-cr-mn-pv/
END:VEVENT
END:VCALENDAR