BEGIN:VCALENDAR
VERSION:2.0
PRODID:-//eventon.com NONSGML v1.0//EN
CALSCALE:GREGORIAN
METHOD:PUBLISH
BEGIN:VEVENT
UID:69e8a3d3a5316
DTSTAMP:20260422T103251Z
DTSTART:20251006T140000Z
DTEND:20251013T160000Z
LOCATION:
SUMMARY:Il cliente difficile: come gestire obiezioni\,  lamentele e richieste impossibili
DESCRIPTION:6 e 13 ottobre dalle ore 14 alle 16\,  in modalità online Hai 
 a che fare con clienti difficili? Impara a gestirli con sicurezza\,  empati
 a e risultati.Ogni cliente complicato può diventare un’opportunità per 
 fare la differenza \, se sai come affrontarlo.Un workshop online interattiv
 o pensato per darti strumenti pratici e subito[..]\nhttps://www.confcommerc
 iocremona.it/events/il-cliente-difficile-come-gestire-obiezioni-lamentele-e
 -richieste-impossibili/
URL:https://www.confcommerciocremona.it/events/il-cliente-difficile-come-gestire-obiezioni-lamentele-e-richieste-impossibili/
END:VEVENT
END:VCALENDAR