BEGIN:VCALENDAR
VERSION:2.0
PRODID:-//eventon.com NONSGML v1.0//EN
CALSCALE:GREGORIAN
METHOD:PUBLISH
BEGIN:VEVENT
UID:69e8a2c584d93
DTSTAMP:20260422T102821Z
DTSTART:20251209T140000Z
DTEND:20251211T160000Z
LOCATION:
SUMMARY:Strategia sui social: identificare gli argomenti che coinvolgono il tuo pubblico
DESCRIPTION:9 e 11 dicembre dalle ore 14\, 00 alle 16\, 00 in modalità onl
 ine Scoprirai come scegliere i temi giusti per il tuo pubblico e come crear
 e contenuti che catturino l’attenzione e stimolino l’interesse. Imparer
 ai a riconoscere gli argomenti più rilevanti per la tua azienda\,  in modo
  da rendere la tua comunicazione[..]\nhttps://www.confcommerciocremona.it/e
 vents/strategia-sui-social-identificare-gli-argomenti-che-coinvolgono-il-tu
 o-pubblico/
URL:https://www.confcommerciocremona.it/events/strategia-sui-social-identificare-gli-argomenti-che-coinvolgono-il-tuo-pubblico/
END:VEVENT
END:VCALENDAR