BEGIN:VCALENDAR
VERSION:2.0
PRODID:-//eventon.com NONSGML v1.0//EN
CALSCALE:GREGORIAN
METHOD:PUBLISH
BEGIN:VEVENT
UID:69e8d42ce4cc1
DTSTAMP:20260422T135908Z
DTSTART:20250428T120000Z
DTEND:20270630T120000Z
LOCATION:
SUMMARY:Bando "Verso la certificazione della parità di genere – Annualità 2025 – 2027"
DESCRIPTION:Il Bando Verso la certificazione della parità di genere – An
 nualità 2025 – 2027\,  intende sostenere le micro\,  piccole e medie imp
 rese lombarde nel percorso orientato al conseguimento della certificazione 
 della parità di genere tramite l’erogazione di contributi per servizi di
  consulenza specialistica finalizzata all’impostazione di un sistema di g
 estione[..]\nhttps://www.confcommerciocremona.it/events/bando-verso-la-cert
 ificazione-della-parita-di-genere-annualita-2025-2027/
URL:https://www.confcommerciocremona.it/events/bando-verso-la-certificazione-della-parita-di-genere-annualita-2025-2027/
END:VEVENT
END:VCALENDAR