BEGIN:VCALENDAR
VERSION:2.0
PRODID:-//eventon.com NONSGML v1.0//EN
CALSCALE:GREGORIAN
METHOD:PUBLISH
BEGIN:VEVENT
UID:69eb9df4b0f12
DTSTAMP:20260424T164436Z
DTSTART:20250505T140000Z
DTEND:20250616T160000Z
LOCATION:
SUMMARY:Bando "Imprese storiche verso il futuro 2025"
DESCRIPTION:Regione Lombardia e il Sistema camerale lombardo tramite Unionc
 amere Lombardia intendono supportare le attività storiche e di tradizione 
 iscritte nell’elenco regionale con un apposito bando "Imprese storiche ve
 rso il futuro 2025". Non potranno accedere al contributo le imprese che han
 no beneficiato della misura nel 2024. Chi può partecipare? Le imprese[..]\
 nhttps://www.confcommerciocremona.it/events/bando-imprese-storiche-verso-il
 -futuro-2025-test/
URL:https://www.confcommerciocremona.it/events/bando-imprese-storiche-verso-il-futuro-2025-test/
END:VEVENT
END:VCALENDAR