BEGIN:VCALENDAR
VERSION:2.0
PRODID:-//eventon.com NONSGML v1.0//EN
CALSCALE:GREGORIAN
METHOD:PUBLISH
BEGIN:VEVENT
UID:69e8a14239b76
DTSTAMP:20260422T102154Z
DTSTART:20250305T140000Z
DTEND:20250305T160000Z
LOCATION:
SUMMARY:Foto e video per vendere meglio
DESCRIPTION:5 marzo dalle ore 14\, 00 alle 16\, 00\,  online Le immagini\, 
  i video e le foto sono strumenti potentissimi che parlano direttamente al 
 cuore e alla mente delle persone. Sono capaci di suscitare emozioni\,  evoc
 are ricordi e stimolare desideri\,  creando così un legame che può portar
 e all’azione\,  all’acquisto\,  al coinvolgimento. Ma[..]\nhttps://www.
 confcommerciocremona.it/events/foto-e-video-per-vendere-meglio/
URL:https://www.confcommerciocremona.it/events/foto-e-video-per-vendere-meglio/
END:VEVENT
END:VCALENDAR