BEGIN:VCALENDAR
VERSION:2.0
PRODID:-//eventon.com NONSGML v1.0//EN
CALSCALE:GREGORIAN
METHOD:PUBLISH
BEGIN:VEVENT
UID:69e8d3da8a164
DTSTAMP:20260422T135746Z
DTSTART:20241216T103000Z
DTEND:20291231T160000Z
LOCATION:
SUMMARY:RINNOVATO! Bando Microcredito di Regione Lombardia
DESCRIPTION:La Regione Lombardia ha attivato il Bando Microcredito\,  un’
 iniziativa mirata a supportare le micro e piccole imprese\,  nonché i lavo
 ratori autonomi\,  attraverso finanziamenti agevolati. Aperto dal 16 dicemb
 re 2024 al 31 dicembre 2029\,  il bando mette a disposizione 24 milioni di 
 euro per favorire la crescita\,  lo sviluppo e la[..]\nhttps://www.confcomm
 erciocremona.it/events/bando-microcredito-di-regione-lombardia/
URL:https://www.confcommerciocremona.it/events/bando-microcredito-di-regione-lombardia/
END:VEVENT
END:VCALENDAR