BEGIN:VCALENDAR
VERSION:2.0
PRODID:-//eventon.com NONSGML v1.0//EN
CALSCALE:GREGORIAN
METHOD:PUBLISH
BEGIN:VEVENT
UID:69e8a2e1a0a87
DTSTAMP:20260422T102849Z
DTSTART:20210622T133000Z
DTEND:20210630T153000Z
LOCATION:
SUMMARY:IL PIANO EDITORIALE : STRUMENTO DI MARKETING FONDAMENTALE PER LE AZIENDE- CORSO GRATUITO ONLINE
DESCRIPTION:22-23-25-30 giugno dalle ore 13\, 30 alle 15\, 30 in modalità 
 online- GRATUITO Il piano editoriale è uno strumento di marketing fondamen
 tale che aiuta le aziende\,  i professionisti e le piccole attività locali
  ad acquisire visibilità sul web e sui social per raggiungere i propri obi
 ettivi di business\,  fidelizzare i clienti e[..]\nhttps://www.confcommerci
 ocremona.it/events/il-piano-editoriale-strumento-di-marketing-fondamentale-
 per-le-aziende-corso-gratuito-online/
URL:https://www.confcommerciocremona.it/events/il-piano-editoriale-strumento-di-marketing-fondamentale-per-le-aziende-corso-gratuito-online/
END:VEVENT
END:VCALENDAR