BEGIN:VCALENDAR
VERSION:2.0
PRODID:-//eventon.com NONSGML v1.0//EN
CALSCALE:GREGORIAN
METHOD:PUBLISH
BEGIN:VEVENT
UID:69e8a35684fd1
DTSTAMP:20260422T103046Z
DTSTART:20241122T140000Z
DTEND:20241122T160000Z
LOCATION:
SUMMARY:Mappa delle soft skills più richieste dalle imprese\,  che cosa allenare e su che cosa formarsi
DESCRIPTION:Mappa delle soft skills più richieste dalle imprese\,  che cos
 a allenare e su che cosa formarsi 22 novembre dalle ore 14 alle 16\,  onlin
 e In un mondo del lavoro in continua evoluzione come quello odierno\,  trav
 olto dalle nuove tecnologie e dalle trasformazioni economiche\,  le cosidde
 tte soft skills o competenze trasversali[..]\nhttps://www.confcommerciocrem
 ona.it/events/mappa-delle-soft-skills-piu-richieste-dalle-imprese/
URL:https://www.confcommerciocremona.it/events/mappa-delle-soft-skills-piu-richieste-dalle-imprese/
END:VEVENT
END:VCALENDAR