BEGIN:VCALENDAR
VERSION:2.0
PRODID:-//eventon.com NONSGML v1.0//EN
CALSCALE:GREGORIAN
METHOD:PUBLISH
BEGIN:VEVENT
UID:69e8a3566f73f
DTSTAMP:20260422T103046Z
DTSTART:20201105T133000Z
DTEND:20201112T153000Z
LOCATION:
SUMMARY:WORKSHOP : VISUAL MERCHANDISING- ESPONI MEGLIO\,  VENDI DI PIU'
DESCRIPTION:&nbsp; 5 e 12 novembre  dalle  13\, 30 ALLE 15\, 30 in modali
 tà online GRATUITO PER GLI ASSOCIATI E PER GLI ISCRITTI EN.BI.TE Disporre 
 correttamente la merce all'interno del retail significa aiutarla a "venders
 i da sola"\,  eliminare le giacenze di magazzino e\,  di conseguenza\,  con
 tribuire a aumentarne la redditività. Il "visual merchandising"[..]\nhttps
 ://www.confcommerciocremona.it/events/workshop-visual-merchandising-esponi-
 meglio-vendi-di-piu/
URL:https://www.confcommerciocremona.it/events/workshop-visual-merchandising-esponi-meglio-vendi-di-piu/
END:VEVENT
END:VCALENDAR