BEGIN:VCALENDAR
VERSION:2.0
PRODID:-//eventon.com NONSGML v1.0//EN
CALSCALE:GREGORIAN
METHOD:PUBLISH
BEGIN:VEVENT
UID:69e4f27bdebbb
DTSTAMP:20260419T151923Z
DTSTART:20200630T173000Z
DTEND:20200630T190000Z
LOCATION:
SUMMARY:"Due corna e una capanna": Andrea & Michele raccontano storie di "alta infedeltà"
DESCRIPTION:Martedì 30 in diretta web Paolo Regina dialoga con gli Autori 
 ≪Due corna e una capanna≫ verrà presentato martedì prossimo\,  30 giu
 gno\,  alle 17.30 in live streaming sul sito web e sulla pagina Facebook de
 l quotidiano La Provincia e sui canali social di Andrea e Michele. L’appu
 ntamento e un fuoriprogramma[..]\nhttps://www.confcommerciocremona.it/event
 s/due-corna-e-una-capanna-andrea-michele-raccontano-storie-di-alta-infedelt
 a/
URL:https://www.confcommerciocremona.it/events/due-corna-e-una-capanna-andrea-michele-raccontano-storie-di-alta-infedelta/
END:VEVENT
END:VCALENDAR